BEGIN:VCALENDAR
VERSION:2.0
PRODID:-//I LUG NY - ECPv6.15.16//NONSGML v1.0//EN
CALSCALE:GREGORIAN
METHOD:PUBLISH
X-ORIGINAL-URL:https://www.ilugny.org
X-WR-CALDESC:Events for I LUG NY
REFRESH-INTERVAL;VALUE=DURATION:PT1H
X-Robots-Tag:noindex
X-PUBLISHED-TTL:PT1H
BEGIN:VTIMEZONE
TZID:America/New_York
BEGIN:DAYLIGHT
TZOFFSETFROM:-0500
TZOFFSETTO:-0400
TZNAME:EDT
DTSTART:20190310T070000
END:DAYLIGHT
BEGIN:STANDARD
TZOFFSETFROM:-0400
TZOFFSETTO:-0500
TZNAME:EST
DTSTART:20191103T060000
END:STANDARD
BEGIN:DAYLIGHT
TZOFFSETFROM:-0500
TZOFFSETTO:-0400
TZNAME:EDT
DTSTART:20200308T070000
END:DAYLIGHT
BEGIN:STANDARD
TZOFFSETFROM:-0400
TZOFFSETTO:-0500
TZNAME:EST
DTSTART:20201101T060000
END:STANDARD
BEGIN:DAYLIGHT
TZOFFSETFROM:-0500
TZOFFSETTO:-0400
TZNAME:EDT
DTSTART:20210314T070000
END:DAYLIGHT
BEGIN:STANDARD
TZOFFSETFROM:-0400
TZOFFSETTO:-0500
TZNAME:EST
DTSTART:20211107T060000
END:STANDARD
BEGIN:DAYLIGHT
TZOFFSETFROM:-0500
TZOFFSETTO:-0400
TZNAME:EDT
DTSTART:20220313T070000
END:DAYLIGHT
BEGIN:STANDARD
TZOFFSETFROM:-0400
TZOFFSETTO:-0500
TZNAME:EST
DTSTART:20221106T060000
END:STANDARD
END:VTIMEZONE
BEGIN:VEVENT
DTSTART;TZID=America/New_York:20211120T110000
DTEND;TZID=America/New_York:20211120T140000
DTSTAMP:20260423T154011
CREATED:20210101T220949Z
LAST-MODIFIED:20211112T043819Z
UID:3920-1637406000-1637416800@www.ilugny.org
SUMMARY:November 2021 General Membership Meeting
DESCRIPTION:Saturday\, November 20th @ 11:00 am – 2:00 pm\n\n\n\nI LUG NY General Meeting\n \nThe November meeting will be held in-person in Yonkers\, NY\n \nIf you are new or visiting\, please RSVP by emailing us at contact@ilugny.org and we’ll provide additional details. I LUG NY is an adult fan group for anyone age 18+.
URL:https://www.ilugny.org/event/november-2021-general-membership-meeting/
END:VEVENT
BEGIN:VEVENT
DTSTART;TZID=America/New_York:20211106T100000
DTEND;TZID=America/New_York:20211106T163000
DTSTAMP:20260423T154011
CREATED:20211102T013803Z
LAST-MODIFIED:20211102T174833Z
UID:4445-1636192800-1636216200@www.ilugny.org
SUMMARY:I LUG NY @ Sayville Library Fan Fest!
DESCRIPTION:I LUG NY @ Sayville Library Fan Fest!
URL:https://www.ilugny.org/event/4445/
LOCATION:Sayville Library\, 88 Greene Avenue\, Sayville\, New York\, 11782
END:VEVENT
BEGIN:VEVENT
DTSTART;TZID=America/New_York:20211031T080000
DTEND;TZID=America/New_York:20211031T170000
DTSTAMP:20260423T154011
CREATED:20210101T221916Z
LAST-MODIFIED:20210101T221947Z
UID:3933-1635667200-1635699600@www.ilugny.org
SUMMARY:AFOL Shopping Day
DESCRIPTION:AFOL Shopping Day 4 of 4
URL:https://www.ilugny.org/event/afol-shopping-day-4/
END:VEVENT
BEGIN:VEVENT
DTSTART;TZID=America/New_York:20211016T110000
DTEND;TZID=America/New_York:20211016T120000
DTSTAMP:20260423T154011
CREATED:20210101T220911Z
LAST-MODIFIED:20211013T204559Z
UID:3918-1634382000-1634385600@www.ilugny.org
SUMMARY:October 2021 General Membership Meeting
DESCRIPTION:Saturday\, October 16 @ 11:00 am – 12:00 pm\n\n\n\nI LUG NY General Meeting\n \nLocation and time TBD.\n \nIf you are new or visiting\, please RSVP by emailing us at contact@ilugny.org and we’ll share the meeting link. I LUG NY is an adult fan group for anyone age 18+.
URL:https://www.ilugny.org/event/october-2021-general-membership-meeting/
END:VEVENT
BEGIN:VEVENT
DTSTART;TZID=America/New_York:20210925T100000
DTEND;TZID=America/New_York:20210926T160000
DTSTAMP:20260423T154011
CREATED:20210819T205121Z
LAST-MODIFIED:20210819T205122Z
UID:4369-1632564000-1632672000@www.ilugny.org
SUMMARY:Brickfair New Jersey 2021
DESCRIPTION:I LUG NY members will be displaying custom LEGO creations at the final Brickfair New Jersey. \n\n\n\nhttps://www.brickfair.com/NJ/
URL:https://www.ilugny.org/event/brickfair-new-jersey-2021/
END:VEVENT
BEGIN:VEVENT
DTSTART;TZID=America/New_York:20210924T190000
DTEND;TZID=America/New_York:20210924T210000
DTSTAMP:20260423T154011
CREATED:20210101T220835Z
LAST-MODIFIED:20210907T014221Z
UID:3916-1632510000-1632517200@www.ilugny.org
SUMMARY:September 2021 General Membership Meeting
DESCRIPTION:Friday\, September 24th @ 7pm – 9pm\n\n\n\nI LUG NY Group Dinner – Brickfair New Jersey\n \nExact location and time TBD. Members of I LUG NY will get together for dinner during Brickfair weekend.\n \n 
URL:https://www.ilugny.org/event/september-2021-general-membership-meeting/
END:VEVENT
BEGIN:VEVENT
DTSTART;TZID=America/New_York:20210821T110000
DTEND;TZID=America/New_York:20210821T140000
DTSTAMP:20260423T154011
CREATED:20210101T220726Z
LAST-MODIFIED:20210819T203638Z
UID:3914-1629543600-1629554400@www.ilugny.org
SUMMARY:August 2021 General Membership Meeting
DESCRIPTION:Saturday\, August 21st @ 11:00 am – 2:00 pm\n\n\n\nI LUG NY General Meeting\n \nDue to lack of available meeting space\, this meeting will be held virtually.\n \nIf you are new or visiting\, please RSVP by emailing us at contact@ilugny.org and we’ll share the meeting link. I LUG NY is an adult fan group for anyone age 18+.
URL:https://www.ilugny.org/event/august-2021-general-membership-meeting/
END:VEVENT
BEGIN:VEVENT
DTSTART;TZID=America/New_York:20210814T080000
DTEND;TZID=America/New_York:20210814T170000
DTSTAMP:20260423T154011
CREATED:20210101T221854Z
LAST-MODIFIED:20210101T221854Z
UID:3931-1628928000-1628960400@www.ilugny.org
SUMMARY:AFOL Shopping Day
DESCRIPTION:AFOL Shopping Day 3 of 4
URL:https://www.ilugny.org/event/afol-shopping-day-3/
END:VEVENT
BEGIN:VEVENT
DTSTART;VALUE=DATE:20210731
DTEND;VALUE=DATE:20210802
DTSTAMP:20260423T154011
CREATED:20210630T203332Z
LAST-MODIFIED:20210630T203332Z
UID:4031-1627689600-1627862399@www.ilugny.org
SUMMARY:Brickfair Virginia 2021
DESCRIPTION:Brickfair Virginia 2021 \nJuly 31-August 1 \nA number of LUG members have expressed interest in attending as individuals.
URL:https://www.ilugny.org/event/brickfair-virginia-2021/
END:VEVENT
BEGIN:VEVENT
DTSTART;TZID=America/New_York:20210717T110000
DTEND;TZID=America/New_York:20210717T140000
DTSTAMP:20260423T154011
CREATED:20210101T220642Z
LAST-MODIFIED:20210101T220642Z
UID:3912-1626519600-1626530400@www.ilugny.org
SUMMARY:July 2021 General Membership Meeting
DESCRIPTION:Saturday\, July 17th @ 11:00 am – 2:00 pm\n\n\n\nI LUG NY General Meeting\n\nLocation and time TBD.\n\nIf you are new or visiting\, please RSVP by emailing us at contact@ilugny.org and we’ll share the meeting link. I LUG NY is an adult fan group for anyone age 18+.
URL:https://www.ilugny.org/event/july-2021-general-membership-meeting/
END:VEVENT
BEGIN:VEVENT
DTSTART;TZID=America/New_York:20210626T120000
DTEND;TZID=America/New_York:20210626T180000
DTSTAMP:20260423T154011
CREATED:20210101T220536Z
LAST-MODIFIED:20210624T203039Z
UID:3910-1624708800-1624730400@www.ilugny.org
SUMMARY:June 2021 General Membership Meeting
DESCRIPTION:Saturday\, June 26th @ 12 – 2:00 pm\n\n\n\nI LUG NY General Meeting\n\nCheck the forum for details.\n\nThis will be our first in-person meeting since last March\, so we’re restricting it to a current members-only meeting.
URL:https://www.ilugny.org/event/june-2021-general-membership-meeting/
END:VEVENT
BEGIN:VEVENT
DTSTART;TZID=America/New_York:20210529T080000
DTEND;TZID=America/New_York:20210529T170000
DTSTAMP:20260423T154011
CREATED:20210101T221816Z
LAST-MODIFIED:20210101T221816Z
UID:3929-1622275200-1622307600@www.ilugny.org
SUMMARY:AFOL Shopping Day
DESCRIPTION:AFOL Shopping Day 2 of 4
URL:https://www.ilugny.org/event/afol-shopping-day-2/
END:VEVENT
BEGIN:VEVENT
DTSTART;TZID=America/New_York:20210515T110000
DTEND;TZID=America/New_York:20210515T140000
DTSTAMP:20260423T154011
CREATED:20210101T220454Z
LAST-MODIFIED:20210101T220454Z
UID:3908-1621076400-1621087200@www.ilugny.org
SUMMARY:May 2021 General Membership Meeting
DESCRIPTION:Saturday\, May 15th @ 11:00 am – 2:00 pm\n\n\n\nI LUG NY General Meeting\n\nLocation and time TBD.\n\nIf you are new or visiting\, please RSVP by emailing us at contact@ilugny.org and we’ll share the meeting link. I LUG NY is an adult fan group for anyone age 18+.
URL:https://www.ilugny.org/event/may-2021-general-membership-meeting/
END:VEVENT
BEGIN:VEVENT
DTSTART;TZID=America/New_York:20210417T110000
DTEND;TZID=America/New_York:20210417T140000
DTSTAMP:20260423T154011
CREATED:20210101T220412Z
LAST-MODIFIED:20210101T220412Z
UID:3906-1618657200-1618668000@www.ilugny.org
SUMMARY:April 2021 General Membership Meeting
DESCRIPTION:Saturday\, April 17 @ 11:00 am – 2:00 pm\n\n\n\nI LUG NY General Meeting\n\nLocation and time TBD.\n\nIf you are new or visiting\, please RSVP by emailing us at contact@ilugny.org and we’ll share the meeting link. I LUG NY is an adult fan group for anyone age 18+.
URL:https://www.ilugny.org/event/april-2021-general-membership-meeting/
END:VEVENT
BEGIN:VEVENT
DTSTART;TZID=America/New_York:20210320T110000
DTEND;TZID=America/New_York:20210320T140000
DTSTAMP:20260423T154011
CREATED:20210101T220321Z
LAST-MODIFIED:20210101T221244Z
UID:3903-1616238000-1616248800@www.ilugny.org
SUMMARY:March 2021 General Membership Meeting
DESCRIPTION:Saturday\, March 20th @ 11:00 am – 2:00 pm\n\n\n\nI LUG NY General Meeting\n\nLocation and time TBD.\n\nIf you are new or visiting\, please RSVP by emailing us at contact@ilugny.org and we’ll share the meeting link. I LUG NY is an adult fan group for anyone age 18+.
URL:https://www.ilugny.org/event/march-2021-general-membership-meeting/
END:VEVENT
BEGIN:VEVENT
DTSTART;TZID=America/New_York:20210220T110000
DTEND;TZID=America/New_York:20210220T140000
DTSTAMP:20260423T154011
CREATED:20210101T220151Z
LAST-MODIFIED:20210101T221135Z
UID:3901-1613818800-1613829600@www.ilugny.org
SUMMARY:February 2021 General Membership Meeting
DESCRIPTION:Saturday\, February 20th @ 11:00 am – 2:00 pm\n\n\n\nI LUG NY General Meeting\n\nLocation and time TBD.\n\nIf you are new or visiting\, please RSVP by emailing us at contact@ilugny.org and we’ll share the meeting link. I LUG NY is an adult fan group for anyone age 18+.
URL:https://www.ilugny.org/event/february-2021-general-membership-meeting/
END:VEVENT
BEGIN:VEVENT
DTSTART;TZID=America/New_York:20210206T080000
DTEND;TZID=America/New_York:20210206T170000
DTSTAMP:20260423T154011
CREATED:20210101T221736Z
LAST-MODIFIED:20210101T221736Z
UID:3927-1612598400-1612630800@www.ilugny.org
SUMMARY:AFOL Shopping Day
DESCRIPTION:AFOL Shopping Day 1 of 4
URL:https://www.ilugny.org/event/afol-shopping-day/
END:VEVENT
BEGIN:VEVENT
DTSTART;TZID=America/New_York:20210116T110000
DTEND;TZID=America/New_York:20210116T140000
DTSTAMP:20260423T154011
CREATED:20201220T041838Z
LAST-MODIFIED:20210101T220238Z
UID:3698-1610794800-1610805600@www.ilugny.org
SUMMARY:January 2021 General Membership Meeting
DESCRIPTION:Saturday\, January 16th @ 11:00 am – 2:00 pm\n\n\n\nI LUG NY General Meeting\n\nLocation and time TBD.\n\nIf you are new or visiting\, please RSVP by emailing us at contact@ilugny.org and we’ll share the meeting link. I LUG NY is an adult fan group for anyone age 18+.
URL:https://www.ilugny.org/event/january-2021-general-membership-meeting/
END:VEVENT
BEGIN:VEVENT
DTSTART;TZID=America/New_York:20201219T110000
DTEND;TZID=America/New_York:20201219T140000
DTSTAMP:20260423T154011
CREATED:20200311T164202Z
LAST-MODIFIED:20201220T040746Z
UID:3640-1608375600-1608386400@www.ilugny.org
SUMMARY:December 2020 General Meeting
DESCRIPTION:I LUG NY General Meeting\n\nLocation and time TBD.\n\nIf you are new or just visiting\, please RSVP by emailing us at contact@ilugny.org . I LUG NY is an adult fan group for anyone age 18+.
URL:https://www.ilugny.org/event/december-2020-general-meeting/
END:VEVENT
BEGIN:VEVENT
DTSTART;TZID=America/New_York:20201121T110000
DTEND;TZID=America/New_York:20201121T140000
DTSTAMP:20260423T154011
CREATED:20200311T164126Z
LAST-MODIFIED:20200311T164126Z
UID:3638-1605956400-1605967200@www.ilugny.org
SUMMARY:November General Meeting
DESCRIPTION:I LUG NY General Meeting\n\nLocation and time TBD.\n\nIf you are new or just visititng\, please RSVP by emailing us at contact@ilugny.org . I LUG NY is an adult fan group for anyone age 18+.
URL:https://www.ilugny.org/event/november-general-meeting/
END:VEVENT
BEGIN:VEVENT
DTSTART;TZID=America/New_York:20201031T110000
DTEND;TZID=America/New_York:20201031T140000
DTSTAMP:20260423T154011
CREATED:20200311T163622Z
LAST-MODIFIED:20200311T163622Z
UID:3634-1604142000-1604152800@www.ilugny.org
SUMMARY:October General Meeting
DESCRIPTION:I LUG NY General Meeting \nLocation and time TBD. This meeting will likely happen at Brickfair New Jersey.\n\nIf you are new or just visititng\, please RSVP by emailing us at contact@ilugny.org . I LUG NY is an adult fan group for anyone age 18+.
URL:https://www.ilugny.org/event/october-general-meeting/
END:VEVENT
BEGIN:VEVENT
DTSTART;TZID=America/New_York:20201029T080000
DTEND;TZID=America/New_York:20201101T170000
DTSTAMP:20260423T154011
CREATED:20200311T164021Z
LAST-MODIFIED:20200311T164021Z
UID:3636-1603958400-1604250000@www.ilugny.org
SUMMARY:Brickfair New Jersey 2020
DESCRIPTION:I LUG NY generally has a group presence at BFNJ. \nhttps://www.brickfair.com/NJ/ \nMeadowlands Expo Center\n355 Plaza Dr.\nSecaucus\, NJ 07094 \nRegistered attendee days:\nThursday\, October 29 – Sunday\, November 1\, 2020 \nPublic days:\nSaturday\, October 31\, 10am – 5pm\nSunday\, November 1\, 10am – 4pm
URL:https://www.ilugny.org/event/brickfair-new-jersey-2020/
END:VEVENT
BEGIN:VEVENT
DTSTART;TZID=America/New_York:20200919T110000
DTEND;TZID=America/New_York:20200919T140000
DTSTAMP:20260423T154011
CREATED:20200311T163438Z
LAST-MODIFIED:20200311T163438Z
UID:3632-1600513200-1600524000@www.ilugny.org
SUMMARY:September General Meeting
DESCRIPTION:I LUG NY General Meeting \nLocation and time TBD.\n\nIf you are new or just visititng\, please RSVP by emailing us at contact@ilugny.org . I LUG NY is an adult fan group for anyone age 18+.
URL:https://www.ilugny.org/event/september-general-meeting/
END:VEVENT
BEGIN:VEVENT
DTSTART;TZID=America/New_York:20200815T110000
DTEND;TZID=America/New_York:20200815T140000
DTSTAMP:20260423T154011
CREATED:20200311T163405Z
LAST-MODIFIED:20200311T163405Z
UID:3630-1597489200-1597500000@www.ilugny.org
SUMMARY:August General Meeting
DESCRIPTION:I LUG NY General Meeting \nLocation and time TBD.\n\nIf you are new or just visititng\, please RSVP by emailing us at contact@ilugny.org . I LUG NY is an adult fan group for anyone age 18+.
URL:https://www.ilugny.org/event/august-general-meeting/
END:VEVENT
BEGIN:VEVENT
DTSTART;TZID=America/New_York:20200729T100000
DTEND;TZID=America/New_York:20200802T170000
DTSTAMP:20260423T154011
CREATED:20200311T163325Z
LAST-MODIFIED:20200311T163325Z
UID:3628-1596016800-1596387600@www.ilugny.org
SUMMARY:Brickfair Virginia 2020
DESCRIPTION:A handful of LUG NY members generally attend BFVA. \nhttps://www.brickfair.com/VA/ \nDulles Expo Center\n4320 Chantilly Center\nChantilly\, VA 20153 \nRegistered attendee days:\nWednesday\, July 29 – Sunday\, August 2\, 2020 \nPublic days:\nSaturday\, August 1\, 10am – 5pm\nSunday\, August 2\, 10am – 4pm
URL:https://www.ilugny.org/event/brickfair-virginia-2020/
END:VEVENT
BEGIN:VEVENT
DTSTART;TZID=America/New_York:20200718T110000
DTEND;TZID=America/New_York:20200718T140000
DTSTAMP:20260423T154011
CREATED:20200311T162607Z
LAST-MODIFIED:20200515T163224Z
UID:3626-1595070000-1595080800@www.ilugny.org
SUMMARY:July General Meeting
DESCRIPTION:I LUG NY General Meeting \nLocation and time TBD.\n\nIf you are new or just visiting\, please RSVP by emailing us at contact@ilugny.org . I LUG NY is an adult fan group for anyone age 18+.
URL:https://www.ilugny.org/event/july-general-meeting/
END:VEVENT
BEGIN:VEVENT
DTSTART;TZID=America/New_York:20200620T110000
DTEND;TZID=America/New_York:20200620T140000
DTSTAMP:20260423T154011
CREATED:20200311T162537Z
LAST-MODIFIED:20200515T190337Z
UID:3624-1592650800-1592661600@www.ilugny.org
SUMMARY:June General VIRTUAL Meeting
DESCRIPTION:I LUG NY General Meeting \nSince everyone is stuck at home\, we’ll be doing a Zoom meeting Saturday\, June from 11am-2pm.\n\nIf you are new or just visiting\, please RSVP by emailing us at contact@ilugny.org and we’ll send you an invite link.\n\nI LUG NY is an adult fan group for anyone age 18+.
URL:https://www.ilugny.org/event/june-general-meeting/
END:VEVENT
BEGIN:VEVENT
DTSTART;TZID=America/New_York:20200516T110000
DTEND;TZID=America/New_York:20200516T140000
DTSTAMP:20260423T154011
CREATED:20200311T162506Z
LAST-MODIFIED:20200515T163431Z
UID:3622-1589626800-1589637600@www.ilugny.org
SUMMARY:May General VIRTUAL Meeting
DESCRIPTION:I LUG NY General Meeting \nSince everyone is stuck at home\, we’ll be doing a Zoom meeting Saturday\, June from 11am-2pm. Date and time subject to change\, check back for updates.\n\nIf you are new or just visiting\, please RSVP by emailing us at contact@ilugny.org and we’ll send you an invite link.\n\nI LUG NY is an adult fan group for anyone age 18+.
URL:https://www.ilugny.org/event/may-general-meeting/
END:VEVENT
BEGIN:VEVENT
DTSTART;TZID=America/New_York:20200425T110000
DTEND;TZID=America/New_York:20200425T140000
DTSTAMP:20260423T154011
CREATED:20200311T162418Z
LAST-MODIFIED:20200411T031536Z
UID:3620-1587812400-1587823200@www.ilugny.org
SUMMARY:April General Meeting
DESCRIPTION:I LUG NY General Meeting\n\nDue to COVID-19 shutdowns\, LUG meetings are canceled until further notice. Please check back for updates.\n\nLocation and time TBD.\n\nThis meeting will likely coincide with setup for the upcoming WMHO show.\n\nIf you are new or just visititng\, please RSVP by emailing us at contact@ilugny.org . I LUG NY is an adult fan group for anyone age 18+.
URL:https://www.ilugny.org/event/april-general-meeting/
END:VEVENT
BEGIN:VEVENT
DTSTART;TZID=America/New_York:20200321T110000
DTEND;TZID=America/New_York:20200321T140000
DTSTAMP:20260423T154011
CREATED:20200311T161530Z
LAST-MODIFIED:20200311T163653Z
UID:3615-1584788400-1584799200@www.ilugny.org
SUMMARY:March General Meeting
DESCRIPTION:Saturday\, March 21\, 2020\n11am-2pm \n  \nMassapequa Library\nBar Harbour Branch\n40 Harbor Lane\nMassapequa NY 11762 \n  \nWe will be meeting in the “Children’s Room.” \nIf you are new or just visiting\, please RSVP by emailing us at contact@ilugny.org . I LUG NY is an adult fan group for anyone age 18+.
URL:https://www.ilugny.org/event/march-general-meeting/
END:VEVENT
END:VCALENDAR